BEGIN:VCALENDAR
METHOD:PUBLISH
PRODID:www-osteuropa-phil-fau-de//Events//DE
VERSION:2.0
BEGIN:VEVENT
SUMMARY:Mirabella Müller: Bildungssystem und Aufklärung unter Kathar
 ina II
UID:4e60-0f70-7e24-4076@www.osteuropa.phil.fau.de
DESCRIPTION:Mirabella Müller\, Erlangen: Bildungssystem und Aufkläru
 ng unter Katharina II Dear colleagues\, we invite you to the next sem
 inar of the chair of Modern and East European History FAU where Mirabe
 lla Müller will give a presentation. Language: German. For registrat
 ion\, please write to oeg-sekretariat@fau.de.
DTSTART:20240424T180000Z
DTEND:20240424T193000Z
LOCATION:Erlangen\, Bismarckstr. 12
DTSTAMP:20260420T202729Z
END:VEVENT
END:VCALENDAR